BEGIN:VCALENDAR
VERSION:2.0
PRODID:-//Tukios.com/
BEGIN:VEVENT
UID:7e40512b-14b5-4028-ac81-8d9274129c6a@obits.cremationsource.com
DTSTAMP:20260422T222654Z
DTSTART:20260428T150000Z
DTEND:20260428T160000Z
SUMMARY:Memorial Service
DESCRIPTION:
URL:https://obits.cremationsource.com/robert-daugherty
LOCATION:Faith Baptist Church 34950 Little Mack Avenue  Clinton Township 
	MI 48035
GEO:42.5536423;-82.9077956
END:VEVENT
END:VCALENDAR