BEGIN:VCALENDAR
VERSION:2.0
PRODID:-//Tukios.com/
BEGIN:VEVENT
UID:09d3aa0c-47dc-48ba-9d49-c0f8da7b437e@obits.cremationsource.com
DTSTAMP:20260421T141907Z
DTSTART:20260427T150000Z
DTEND:20260427T160000Z
SUMMARY:Funeral Service
DESCRIPTION:
URL:https://obits.cremationsource.com/stanislaw-madro
LOCATION:Our Lady of Czestochowa Church 3100 18 Mile Road  Sterling 
	Heights MI 48310
GEO:42.592219;-83.0792511
END:VEVENT
END:VCALENDAR